BEGIN:VCALENDAR
VERSION:2.0
PRODID:-//Welcome to The Glory Days Assembly - ECPv6.15.10//NONSGML v1.0//EN
CALSCALE:GREGORIAN
METHOD:PUBLISH
X-WR-CALNAME:Welcome to The Glory Days Assembly
X-ORIGINAL-URL:https://rccgwokingham.com
X-WR-CALDESC:Events for Welcome to The Glory Days Assembly
REFRESH-INTERVAL;VALUE=DURATION:PT1H
X-Robots-Tag:noindex
X-PUBLISHED-TTL:PT1H
BEGIN:VTIMEZONE
TZID:UTC
BEGIN:STANDARD
TZOFFSETFROM:+0000
TZOFFSETTO:+0000
TZNAME:UTC
DTSTART:20180101T000000
END:STANDARD
END:VTIMEZONE
BEGIN:VEVENT
DTSTART;TZID=UTC:20221231T223000
DTEND;TZID=UTC:20230101T010000
DTSTAMP:20260423T152734
CREATED:20221230T230300Z
LAST-MODIFIED:20221230T232430Z
UID:562-1672525800-1672534800@rccgwokingham.com
SUMMARY:Theme:- Night Of Glory - CrossOver 2022
DESCRIPTION:31st December 2022\, Crossover 2022\,
URL:https://rccgwokingham.com/event/night-of-glory-crossover-2022/
LOCATION:Wokingham Baptist Church\, MILTON Road\, Wokingham\, Berksire\, RG40 1DE\, United Kingdom
ORGANIZER;CN="The Glory Days Assembly":MAILTO:enquiries@rccgwokinham.com
END:VEVENT
BEGIN:VEVENT
DTSTART;TZID=UTC:20190719T190000
DTEND;TZID=UTC:20190720T190000
DTSTAMP:20260423T152734
CREATED:20190626T174407Z
LAST-MODIFIED:20190626T175051Z
UID:452-1563562800-1563649200@rccgwokingham.com
SUMMARY:Festival of Life 2019
DESCRIPTION:Registration required. Please register here\nCall 07919368507 for transportation arrangement.
URL:https://rccgwokingham.com/event/festival-of-life-2019/
LOCATION:London Excel Centre\, Excel London\, Royal Docklands\, London\, E16 1XL\, United Kingdom
ATTACH;FMTTYPE=image/jpeg:https://rccgwokingham.com/wp-content/uploads/2019/06/more.jpg
END:VEVENT
BEGIN:VEVENT
DTSTART;TZID=UTC:20190718T180000
DTEND;TZID=UTC:20190718T203000
DTSTAMP:20260423T152734
CREATED:20190626T180547Z
LAST-MODIFIED:20190626T181955Z
UID:461-1563472800-1563481800@rccgwokingham.com
SUMMARY:Communion Service
DESCRIPTION:
URL:https://rccgwokingham.com/event/communion-service/
LOCATION:RCCG Wokingham\, Woosehill Community Centre\, Behind Morrisons Superstores\, Wokingham\, RG41 3DA\, United Kingdom
ATTACH;FMTTYPE=image/png:https://rccgwokingham.com/wp-content/uploads/2019/06/holy-communion-2.png
ORGANIZER;CN="The Glory Days Assembly":MAILTO:enquiries@rccgwokinham.com
END:VEVENT
BEGIN:VEVENT
DTSTART;TZID=UTC:20190716T190000
DTEND;TZID=UTC:20190716T220000
DTSTAMP:20260423T152735
CREATED:20190626T181508Z
LAST-MODIFIED:20190626T181859Z
UID:465-1563303600-1563314400@rccgwokingham.com
SUMMARY:Workers Rally with Daddy GO
DESCRIPTION:Registration required via Eventbrite.\nFor transportation arrangement call 07919368507
URL:https://rccgwokingham.com/event/workers-rally-with-daddy-go/
LOCATION:London Excel Centre\, Excel London\, Royal Docklands\, London\, E16 1XL\, United Kingdom
ATTACH;FMTTYPE=image/jpeg:https://rccgwokingham.com/wp-content/uploads/2019/06/wheat-4278543_1920.jpg
END:VEVENT
END:VCALENDAR